BEGIN:VCALENDAR
VERSION:2.0
PRODID:-//Biotility - ECPv6.15.20//NONSGML v1.0//EN
CALSCALE:GREGORIAN
METHOD:PUBLISH
X-WR-CALNAME:Biotility
X-ORIGINAL-URL:https://biotility.research.ufl.edu
X-WR-CALDESC:Events for Biotility
REFRESH-INTERVAL;VALUE=DURATION:PT1H
X-Robots-Tag:noindex
X-PUBLISHED-TTL:PT1H
BEGIN:VTIMEZONE
TZID:America/New_York
BEGIN:DAYLIGHT
TZOFFSETFROM:-0500
TZOFFSETTO:-0400
TZNAME:EDT
DTSTART:20250309T070000
END:DAYLIGHT
BEGIN:STANDARD
TZOFFSETFROM:-0400
TZOFFSETTO:-0500
TZNAME:EST
DTSTART:20251102T060000
END:STANDARD
BEGIN:DAYLIGHT
TZOFFSETFROM:-0500
TZOFFSETTO:-0400
TZNAME:EDT
DTSTART:20260308T070000
END:DAYLIGHT
BEGIN:STANDARD
TZOFFSETFROM:-0400
TZOFFSETTO:-0500
TZNAME:EST
DTSTART:20261101T060000
END:STANDARD
BEGIN:DAYLIGHT
TZOFFSETFROM:-0500
TZOFFSETTO:-0400
TZNAME:EDT
DTSTART:20270314T070000
END:DAYLIGHT
BEGIN:STANDARD
TZOFFSETFROM:-0400
TZOFFSETTO:-0500
TZNAME:EST
DTSTART:20271107T060000
END:STANDARD
BEGIN:DAYLIGHT
TZOFFSETFROM:-0500
TZOFFSETTO:-0400
TZNAME:EDT
DTSTART:20280312T070000
END:DAYLIGHT
BEGIN:STANDARD
TZOFFSETFROM:-0400
TZOFFSETTO:-0500
TZNAME:EST
DTSTART:20281105T060000
END:STANDARD
END:VTIMEZONE
BEGIN:VEVENT
DTSTART;VALUE=DATE:20260420
DTEND;VALUE=DATE:20260423
DTSTAMP:20260420T231954
CREATED:20260407T165530Z
LAST-MODIFIED:20260407T165530Z
UID:10000249-1776643200-1776902399@biotility.research.ufl.edu
SUMMARY:ACTE Region I 2026 Leadership Conference (presenting)
DESCRIPTION:Director Tamara Mandell will present at the ACTE Region I Leadership Conference in Sharonville\, OH\, April 20-22. \nFor more info\, visit the conference website.
URL:https://biotility.research.ufl.edu/event/acte-region-i-2026/
CATEGORIES:Conferences
END:VEVENT
BEGIN:VEVENT
DTSTART;VALUE=DATE:20260430
DTEND;VALUE=DATE:20260501
DTSTAMP:20260420T231954
CREATED:20250903T183416Z
LAST-MODIFIED:20250903T183416Z
UID:10000237-1777507200-1777593599@biotility.research.ufl.edu
SUMMARY:BACE Exam Site Registration Ends (AY25-26)
DESCRIPTION:Exam Site registration ends at 11:59pm.
URL:https://biotility.research.ufl.edu/event/bace-exam-site-registration-ends-ay25-26/
CATEGORIES:BACE
ATTACH;FMTTYPE=image/jpeg:https://biotility.research.ufl.edu/wp-content/uploads/2025/08/BACE-Logo-TYPE-BELOW-no-TM-4-c-SQUARE-e1758727544710.jpg
END:VEVENT
BEGIN:VEVENT
DTSTART;VALUE=DATE:20260525
DTEND;VALUE=DATE:20260526
DTSTAMP:20260420T231954
CREATED:20251219T163359Z
LAST-MODIFIED:20251219T163509Z
UID:10000243-1779667200-1779753599@biotility.research.ufl.edu
SUMMARY:Memorial Day (Closed)
DESCRIPTION:
URL:https://biotility.research.ufl.edu/event/memorial-day-closed/
CATEGORIES:Holidays
END:VEVENT
BEGIN:VEVENT
DTSTART;VALUE=DATE:20260603
DTEND;VALUE=DATE:20260604
DTSTAMP:20260420T231954
CREATED:20250902T143054Z
LAST-MODIFIED:20250902T144157Z
UID:10000233-1780444800-1780531199@biotility.research.ufl.edu
SUMMARY:BACE First Attempt Orders Close (AY25-26)
DESCRIPTION:
URL:https://biotility.research.ufl.edu/event/bace-first-attempt-orders-close-ay25-26/
CATEGORIES:BACE
END:VEVENT
BEGIN:VEVENT
DTSTART;VALUE=DATE:20260615
DTEND;VALUE=DATE:20260618
DTSTAMP:20260420T231954
CREATED:20260420T150327Z
LAST-MODIFIED:20260420T174341Z
UID:10000253-1781481600-1781740799@biotility.research.ufl.edu
SUMMARY:LTEN: Life Sciences Trainers & Educators Network Conference (Exhibiting)
DESCRIPTION:Biotility will be exhibiting at the Life Sciences Trainers & Educators Network (LTEN) Annual Conference June 15-17 in Kissimmee\, FL. \nThe LTEN conference is the premier gathering for learning and development professionals in the life sciences industry to share\, explore\, and refine what it means to deliver results-driven learning. For more information about this event\, visit LTEN’s webpage. \n  \n  \n 
URL:https://biotility.research.ufl.edu/event/lten-2026/
CATEGORIES:Conferences,Exhibiting
END:VEVENT
BEGIN:VEVENT
DTSTART;VALUE=DATE:20260619
DTEND;VALUE=DATE:20260620
DTSTAMP:20260420T231954
CREATED:20260213T195532Z
LAST-MODIFIED:20260213T195532Z
UID:10000246-1781827200-1781913599@biotility.research.ufl.edu
SUMMARY:Juneteenth (Closed)
DESCRIPTION:
URL:https://biotility.research.ufl.edu/event/juneteenth2026-closed/
CATEGORIES:Holidays
END:VEVENT
BEGIN:VEVENT
DTSTART;VALUE=DATE:20260703
DTEND;VALUE=DATE:20260704
DTSTAMP:20260420T231954
CREATED:20260213T195657Z
LAST-MODIFIED:20260213T195657Z
UID:10000247-1783036800-1783123199@biotility.research.ufl.edu
SUMMARY:Independence Day - observed (Closed)
DESCRIPTION:
URL:https://biotility.research.ufl.edu/event/july4th2026-closed/
CATEGORIES:Holidays
END:VEVENT
BEGIN:VEVENT
DTSTART;VALUE=DATE:20260715
DTEND;VALUE=DATE:20260716
DTSTAMP:20260420T231954
CREATED:20250902T143235Z
LAST-MODIFIED:20260213T190226Z
UID:10000234-1784073600-1784159999@biotility.research.ufl.edu
SUMMARY:BACE First Attempt Testing Ends (AY25-26)
DESCRIPTION:
URL:https://biotility.research.ufl.edu/event/bace-first-attempt-testing-ends-ay25-26/
CATEGORIES:BACE
ATTACH;FMTTYPE=image/jpeg:https://biotility.research.ufl.edu/wp-content/uploads/2025/08/BACE-Logo-TYPE-BELOW-no-TM-4-c-SQUARE-e1758727544710.jpg
END:VEVENT
BEGIN:VEVENT
DTSTART;VALUE=DATE:20260727
DTEND;VALUE=DATE:20260728
DTSTAMP:20260420T231954
CREATED:20250902T143747Z
LAST-MODIFIED:20260203T160600Z
UID:10000235-1785110400-1785196799@biotility.research.ufl.edu
SUMMARY:BACE Retake Orders Close (AY25-26)
DESCRIPTION:
URL:https://biotility.research.ufl.edu/event/bace-retake-orders-close-ay25-26/
CATEGORIES:BACE
END:VEVENT
BEGIN:VEVENT
DTSTART;VALUE=DATE:20260727
DTEND;VALUE=DATE:20260731
DTSTAMP:20260420T231954
CREATED:20260407T190525Z
LAST-MODIFIED:20260420T180856Z
UID:10000250-1785110400-1785455999@biotility.research.ufl.edu
SUMMARY:HI-TEC: High Impact Technology Exchange Conference 2026 (Presenting)
DESCRIPTION:Supported by the National Science Foundation’s Advanced Technological Education (NSF ATE) program\, HI-TEC is a national conference on advanced technological education where secondary and postsecondary educators\, counselors\, industry professionals\, trade organizations\, and technicians can update their knowledge and skills. Charged with preparing America’s skilled technical workforce\, the event focuses on the preparation needed by the existing and future workforce for companies in the high-tech sectors that drive our nation’s economy. \nLook for Biotility’s presentation session: “Credentials that Connect—Ensuring Quality\, Reliability\, and Industry Relevance“.
URL:https://biotility.research.ufl.edu/event/hi-tec-2026/
CATEGORIES:Conferences
ATTACH;FMTTYPE=:
END:VEVENT
BEGIN:VEVENT
DTSTART;VALUE=DATE:20260810
DTEND;VALUE=DATE:20260811
DTSTAMP:20260420T231954
CREATED:20250902T144036Z
LAST-MODIFIED:20260203T160510Z
UID:10000236-1786320000-1786406399@biotility.research.ufl.edu
SUMMARY:BACE Retake Testing Ends (AY25-26)
DESCRIPTION:All BACE Exam Retakes for AY25-26 must be completed by 11:59 pm. Contact us via email or phone (386.462.3181\, Option 1) with any questions.
URL:https://biotility.research.ufl.edu/event/bace-retake-testing-ends-ay25-26/
CATEGORIES:BACE
ATTACH;FMTTYPE=image/jpeg:https://biotility.research.ufl.edu/wp-content/uploads/2025/08/BACE-Logo-TYPE-BELOW-no-TM-4-c-SQUARE-e1758727544710.jpg
END:VEVENT
BEGIN:VEVENT
DTSTART;VALUE=DATE:20260907
DTEND;VALUE=DATE:20260908
DTSTAMP:20260420T231954
CREATED:20260408T203308Z
LAST-MODIFIED:20260408T203308Z
UID:10000251-1788739200-1788825599@biotility.research.ufl.edu
SUMMARY:Labor Day (Closed)
DESCRIPTION:Biotility and the University of Florida will be closed on Monday\, September 7\, 2026 in observance of Labor Day.
URL:https://biotility.research.ufl.edu/event/labor-day-2026/
CATEGORIES:Holidays
END:VEVENT
BEGIN:VEVENT
DTSTART;VALUE=DATE:20261009
DTEND;VALUE=DATE:20261010
DTSTAMP:20260420T231954
CREATED:20260420T174856Z
LAST-MODIFIED:20260420T180209Z
UID:10000256-1791504000-1791590399@biotility.research.ufl.edu
SUMMARY:UF Homecoming (Closed)
DESCRIPTION:Biotility and the University of Florida will be closed Friday\, October 9th to celebrate Homecoming Weekend.
URL:https://biotility.research.ufl.edu/event/uf-homecoming-2026/
CATEGORIES:Holidays
END:VEVENT
BEGIN:VEVENT
DTSTART;VALUE=DATE:20261029
DTEND;VALUE=DATE:20261102
DTSTAMP:20260420T231954
CREATED:20260420T152252Z
LAST-MODIFIED:20260420T175702Z
UID:10000254-1793232000-1793577599@biotility.research.ufl.edu
SUMMARY:NABT: National Association of Biology Teachers Fall Conference (Exhibiting)
DESCRIPTION:Biotility will be exhibiting at the National Association of Biology Teachers (NABT) Conference Oct. 29 to Nov. 1 in Dallas\, TX. Find us at booth #405 in the exhibit hall. \nJoin other leaders in biology and life science education for interactive workshops\, renowned speakers\, and the special NABT events that you can’t experience anywhere else. For more information about NABT Professional Development Conference\, visit its webpage.
URL:https://biotility.research.ufl.edu/event/nabt-fall-2026/
CATEGORIES:Conferences,Exhibiting
END:VEVENT
BEGIN:VEVENT
DTSTART;VALUE=DATE:20261111
DTEND;VALUE=DATE:20261112
DTSTAMP:20260420T231954
CREATED:20260420T175940Z
LAST-MODIFIED:20260420T175940Z
UID:10000257-1794355200-1794441599@biotility.research.ufl.edu
SUMMARY:Veterans Day (Closed)
DESCRIPTION:Biotility and the University of Florida will be closed on Wednesday\, November 11\, 2026 in observance of Veterans Day.
URL:https://biotility.research.ufl.edu/event/veterans-day-2026/
CATEGORIES:Holidays
END:VEVENT
BEGIN:VEVENT
DTSTART;VALUE=DATE:20261126
DTEND;VALUE=DATE:20261128
DTSTAMP:20260420T231954
CREATED:20260420T180422Z
LAST-MODIFIED:20260420T180422Z
UID:10000258-1795651200-1795823999@biotility.research.ufl.edu
SUMMARY:Thanksgiving (Closed)
DESCRIPTION:Biotility and the University of Florida will be closed Thursday\, November 26 and Friday\, November 27\, 2026 for Thanksgiving.
URL:https://biotility.research.ufl.edu/event/thanksgiving-2026/
CATEGORIES:Holidays
END:VEVENT
BEGIN:VEVENT
DTSTART;VALUE=DATE:20261203
DTEND;VALUE=DATE:20261205
DTSTAMP:20260420T231954
CREATED:20260420T153009Z
LAST-MODIFIED:20260420T175745Z
UID:10000255-1796256000-1796428799@biotility.research.ufl.edu
SUMMARY:ACTE CareerTech VISION (Exhibiting)
DESCRIPTION:Biotility will be exhibiting at ACTE CareerTech VISION December 3-4 in New Orleans\, LA. Find us at booth #524 in the exhibit hall. \nExperience the premier event for CTE professionals with hundreds of sessions\, inspiring presenters\, a bustling expo\, and unforgettable centennial celebrations. For more details about ACTE VISION\, visit its webpage. \n 
URL:https://biotility.research.ufl.edu/event/acte-vision-2026/
CATEGORIES:Conferences,Exhibiting
END:VEVENT
BEGIN:VEVENT
DTSTART;VALUE=DATE:20261225
DTEND;VALUE=DATE:20270102
DTSTAMP:20260420T231954
CREATED:20260420T180649Z
LAST-MODIFIED:20260420T180649Z
UID:10000259-1798156800-1798847999@biotility.research.ufl.edu
SUMMARY:Holiday Closing 2026-2027
DESCRIPTION:Biotility and the University of Florida will be closed Friday\, December 25\, 2026 through Friday\, January 1\, 2027 for winter break.
URL:https://biotility.research.ufl.edu/event/holiday-closing-2026-2027/
CATEGORIES:Holidays
END:VEVENT
END:VCALENDAR